BEGIN:VCALENDAR
VERSION:2.0
PRODID:-//КДАіС
CALSCALE:GREGORIAN
METHOD:PUBLISH
X-WR-CALNAME:КДАіС
X-ORIGINAL-URL:https://kdais.kiev.ua/event/liturhiya-rector-02-07-25/
X-WR-CALDESC:Архієпископ Сильвестр взяв участь у богослужінні в день пам’яті свт. Іоанна Шанхайського і Сан-Франциського
BEGIN:VEVENT
DTSTART:20250702T233000
DTEND:20250702T233000
SUMMARY:Архієпископ Сильвестр взяв участь у богослужінні в день пам’яті свт. Іоанна Шанхайського і Сан-Франциського
DESCRIPTION:Перед початком Літургії архієреї звершили освячення новонаписаної ікони святителя Іоанна Шанхайського, яка віднині перебуватиме в храмі для поклоніння вірян
LOCATION:
END:VEVENT
END:VCALENDAR
