BEGIN:VCALENDAR
VERSION:2.0
PRODID:-//КДАіС
CALSCALE:GREGORIAN
METHOD:PUBLISH
X-WR-CALNAME:КДАіС
X-ORIGINAL-URL:https://kdais.kiev.ua/event/vizit-2-06-25/
X-WR-CALDESC:Ректор КДАіС архієпископ Білогородський Сильвестр здійснив візит до Вінницької єпархії
BEGIN:VEVENT
DTSTART:20250702T233000
DTEND:20250702T233000
SUMMARY:Ректор КДАіС архієпископ Білогородський Сильвестр здійснив візит до Вінницької єпархії
DESCRIPTION:Завершився візит участю в публічному подкасті, що відбувся в соборі Різдва Пресвятої Богородиці. Темою зустрічі стала розмова: «Хто такий православний семінарист?»
LOCATION:
END:VEVENT
END:VCALENDAR
