BEGIN:VCALENDAR
VERSION:2.0
PRODID:-//КДАіС
CALSCALE:GREGORIAN
METHOD:PUBLISH
X-WR-CALNAME:КДАіС
X-ORIGINAL-URL:https://kdais.kiev.ua/event/13-07-25-liturhiya/
X-WR-CALDESC:Неділя пʼята після Пʼятидесятниці, Собор дванадцяти апостолів
BEGIN:VEVENT
DTSTART:20250713T233000
DTEND:20250713T233000
SUMMARY:Неділя пʼята після Пʼятидесятниці, Собор дванадцяти апостолів
DESCRIPTION:Проповідь після читання Святого Євангелія виголосив архімандрит Володимир (Ціпіньо)
LOCATION:
END:VEVENT
END:VCALENDAR
