BEGIN:VCALENDAR
VERSION:2.0
PRODID:-//КДАіС
CALSCALE:GREGORIAN
METHOD:PUBLISH
X-WR-CALNAME:КДАіС
X-ORIGINAL-URL:https://kdais.kiev.ua/event/liturhiya-rector-12-07-25/
X-WR-CALDESC:Архіпастирське служіння ректора у день свята святих первоверховних апостолів Петра і Павла
BEGIN:VEVENT
DTSTART:20250712T233000
DTEND:20250712T233000
SUMMARY:Архіпастирське служіння ректора у день свята святих первоверховних апостолів Петра і Павла
DESCRIPTION:Архієпископ Сильвестр привітав настоятеля храму протоієрея Павла — з днем тезоіменитства та нагородив благодійників храму церковними нагородами
LOCATION:
END:VEVENT
END:VCALENDAR
