BEGIN:VCALENDAR
VERSION:2.0
PRODID:-//КДАіС
CALSCALE:GREGORIAN
METHOD:PUBLISH
X-WR-CALNAME:КДАіС
X-ORIGINAL-URL:https://kdais.kiev.ua/event/propovid-20-07-2025-ru/
X-WR-CALDESC:Проповедь архиепископа Белогородского Сильвестра в Неделю шестую по Пятидесятнице
BEGIN:VEVENT
DTSTART:20250720T233000
DTEND:20250720T233000
SUMMARY:Проповедь архиепископа Белогородского Сильвестра в Неделю шестую по Пятидесятнице
DESCRIPTION:Сначала Господь избавляет человека от большего зла — греха, затем от меньшего — физической болезни
LOCATION:
END:VEVENT
END:VCALENDAR
