BEGIN:VCALENDAR
VERSION:2.0
PRODID:-//КДАіС
CALSCALE:GREGORIAN
METHOD:PUBLISH
X-WR-CALNAME:КДАіС
X-ORIGINAL-URL:https://kdais.kiev.ua/event/19-07-2025-bdinya/
X-WR-CALDESC:Всенічне бдіння в Академії напередодні Неділі шостої після П’ятидесятниці
BEGIN:VEVENT
DTSTART:20250719T233000
DTEND:20250719T233000
SUMMARY:Всенічне бдіння в Академії напередодні Неділі шостої після П’ятидесятниці
DESCRIPTION:Богослужіння очолив завідувач заочним відділенням архімандрит Афанасій (Стрельцов)
LOCATION:
END:VEVENT
END:VCALENDAR
