BEGIN:VCALENDAR
VERSION:2.0
PRODID:-//КДАіС
CALSCALE:GREGORIAN
METHOD:PUBLISH
X-WR-CALNAME:КДАіС
X-ORIGINAL-URL:https://kdais.kiev.ua/event/04-08-2025-vechirnya/
X-WR-CALDESC:Вечірнє богослужіння напередодні дня вшанування Почаївської ікони Божої Матері
BEGIN:VEVENT
DTSTART:20250804T233000
DTEND:20250804T233000
SUMMARY:Вечірнє богослужіння напередодні дня вшанування Почаївської ікони Божої Матері
DESCRIPTION:Богослужіння звершив благочинний Академічного храму архімандрит Досифей (Михайлюк) 
LOCATION:
END:VEVENT
END:VCALENDAR
