BEGIN:VCALENDAR
VERSION:2.0
PRODID:-//КДАіС
CALSCALE:GREGORIAN
METHOD:PUBLISH
X-WR-CALNAME:КДАіС
X-ORIGINAL-URL:https://kdais.kiev.ua/event/liturhiya-09-08-2025/
X-WR-CALDESC:Божественна літургія у день памʼяті великомученика і цілителя Пантелеімона
BEGIN:VEVENT
DTSTART:20250809T233000
DTEND:20250809T233000
SUMMARY:Божественна літургія у день памʼяті великомученика і цілителя Пантелеімона
DESCRIPTION:Наприкінці Літургії перед іконою святих було звершено чин славління
LOCATION:
END:VEVENT
END:VCALENDAR
