BEGIN:VCALENDAR
VERSION:2.0
PRODID:-//КДАіС
CALSCALE:GREGORIAN
METHOD:PUBLISH
X-WR-CALNAME:КДАіС
X-ORIGINAL-URL:https://kdais.kiev.ua/event/liturhiya-10-08-2025/
X-WR-CALDESC:Божественна літургія у Неділю дев’яту після П’ятидесятниці
BEGIN:VEVENT
DTSTART:20250810T233000
DTEND:20250810T233000
SUMMARY:Божественна літургія у Неділю дев’яту після П’ятидесятниці
DESCRIPTION:Проповідь після читання Святого Євангелія виголосив ієромонах Феодосій (Костючик)
LOCATION:
END:VEVENT
END:VCALENDAR
