BEGIN:VCALENDAR
VERSION:2.0
PRODID:-//КДАіС
CALSCALE:GREGORIAN
METHOD:PUBLISH
X-WR-CALNAME:КДАіС
X-ORIGINAL-URL:https://kdais.kiev.ua/event/svyati_kda-12-08-25/
X-WR-CALDESC:Собор святих КДА: священносповідник Василій, єпископ Кинешемський
BEGIN:VEVENT
DTSTART:20250813T233000
DTEND:20250813T233000
SUMMARY:Собор святих КДА: священносповідник Василій, єпископ Кинешемський
DESCRIPTION:19 вересня 1921 р. ієромонах Василій (Преображенський) був хіротонізований на єпископа Кінешемського, вікарія Костромської єпархії в Успенському соборі Кінешми
LOCATION:
END:VEVENT
END:VCALENDAR
