BEGIN:VCALENDAR
VERSION:2.0
PRODID:-//КДАіС
CALSCALE:GREGORIAN
METHOD:PUBLISH
X-WR-CALNAME:КДАіС
X-ORIGINAL-URL:https://kdais.kiev.ua/event/13-08-2025-vechirnya/
X-WR-CALDESC:Богослужіння напередодні свята Винесення Чесних Древ Животворящого Хреста Господнього
BEGIN:VEVENT
DTSTART:20250813T233000
DTEND:20250813T233000
SUMMARY:Богослужіння напередодні свята Винесення Чесних Древ Животворящого Хреста Господнього
DESCRIPTION:На утрені під час Великого славослів’я при співі Трисвятого відбулось винесення Чесних Древ Животворящого Хреста Господнього на середину храму для поклоніння віруючих
LOCATION:
END:VEVENT
END:VCALENDAR
