BEGIN:VCALENDAR
VERSION:2.0
PRODID:-//КДАіС
CALSCALE:GREGORIAN
METHOD:PUBLISH
X-WR-CALNAME:КДАіС
X-ORIGINAL-URL:https://kdais.kiev.ua/event/01-09-2025/
X-WR-CALDESC:В Київських духовних школах розпочався 2025-2026 навчальний рік
BEGIN:VEVENT
DTSTART:20250901T233000
DTEND:20250901T233000
SUMMARY:В Київських духовних школах розпочався 2025-2026 навчальний рік
DESCRIPTION:Після канікул вихованці Семінарії та студенти Академії повернулися до занять, продовжуючи вивчати богословські дисципліни
LOCATION:
END:VEVENT
END:VCALENDAR
