BEGIN:VCALENDAR
VERSION:2.0
PRODID:-//КДАіС
CALSCALE:GREGORIAN
METHOD:PUBLISH
X-WR-CALNAME:КДАіС
X-ORIGINAL-URL:https://kdais.kiev.ua/event/bdinnya-20-09-2025/
X-WR-CALDESC:Всенічне бдіння напередодні Неділі п’ятнадцятої після П’ятидесятниці та свята Різдва Пресвятої Богородиці
BEGIN:VEVENT
DTSTART:20250920T233000
DTEND:20250920T233000
SUMMARY:Всенічне бдіння напередодні Неділі п’ятнадцятої після П’ятидесятниці та свята Різдва Пресвятої Богородиці
DESCRIPTION:Проповідь після шестопсалм’я виголосив студент IІ курсу магістратури — чтець Давид Шарамко
LOCATION:
END:VEVENT
END:VCALENDAR
