BEGIN:VCALENDAR
VERSION:2.0
PRODID:-//КДАіС
CALSCALE:GREGORIAN
METHOD:PUBLISH
X-WR-CALNAME:КДАіС
X-ORIGINAL-URL:https://kdais.kiev.ua/event/liturhiya-rector-22-09-25/
X-WR-CALDESC:У день пам’яті святителя Феодосія Чернігівського архієпископ Сильвестр взяв участь у Божественній літургії
BEGIN:VEVENT
DTSTART:20250922T233000
DTEND:20250922T233000
SUMMARY:У день пам’яті святителя Феодосія Чернігівського архієпископ Сильвестр взяв участь у Божественній літургії
DESCRIPTION:Наприкінці Літургії перед іконою святителя Феодосія Чернігівського було звершено чин славління
LOCATION:
END:VEVENT
END:VCALENDAR
