BEGIN:VCALENDAR
VERSION:2.0
PRODID:-//КДАіС
CALSCALE:GREGORIAN
METHOD:PUBLISH
X-WR-CALNAME:КДАіС
X-ORIGINAL-URL:https://kdais.kiev.ua/event/ekskursiya-22-09-2025/
X-WR-CALDESC:Паломницька служба при Академічному храмі КДА відвідала Свято-Благовіщенський монастир міста Ніжина
BEGIN:VEVENT
DTSTART:20250922T233000
DTEND:20250922T233000
SUMMARY:Паломницька служба при Академічному храмі КДА відвідала Свято-Благовіщенський монастир міста Ніжина
DESCRIPTION:Участь в паломництві взяли постійні прихожани Академічного храму на честь преподобного Іоанна Дамаскина, віряни столиці та вихованці КДС
LOCATION:
END:VEVENT
END:VCALENDAR
