BEGIN:VCALENDAR
VERSION:2.0
PRODID:-//КДАіС
CALSCALE:GREGORIAN
METHOD:PUBLISH
X-WR-CALNAME:КДАіС
X-ORIGINAL-URL:https://kdais.kiev.ua/event/zustrich-23-09-2025/
X-WR-CALDESC:Відбулась традиційна зустріч ректора Київських духовних шкіл з вихованцями 1-го класу
BEGIN:VEVENT
DTSTART:20250923T233000
DTEND:20250923T233000
SUMMARY:Відбулась традиційна зустріч ректора Київських духовних шкіл з вихованцями 1-го класу
DESCRIPTION:Його Високопреосвященство звернув увагу, на важливість щоденного читання і вивчення Святого Письма, та наголосив, що першочерговою задачею для кожного вихованця є навчання
LOCATION:
END:VEVENT
END:VCALENDAR
