BEGIN:VCALENDAR
VERSION:2.0
PRODID:-//КДАіС
CALSCALE:GREGORIAN
METHOD:PUBLISH
X-WR-CALNAME:КДАіС
X-ORIGINAL-URL:https://kdais.kiev.ua/event/liturhiya-rector-02-10-2025/
X-WR-CALDESC:Ректор КДА очолив престольне свято храму на честь благовірного великого князя Ігоря Чернігівського
BEGIN:VEVENT
DTSTART:20251002T233000
DTEND:20251002T233000
SUMMARY:Ректор КДА очолив престольне свято храму на честь благовірного великого князя Ігоря Чернігівського
DESCRIPTION:Наприкінці богослужіння біля ікони святого князя Ігоря Чернігівського було звершено чин славління
LOCATION:
END:VEVENT
END:VCALENDAR
