BEGIN:VCALENDAR
VERSION:2.0
PRODID:-//КДАіС
CALSCALE:GREGORIAN
METHOD:PUBLISH
X-WR-CALNAME:КДАіС
X-ORIGINAL-URL:https://kdais.kiev.ua/event/bdinnya-08-10-2025/
X-WR-CALDESC:Всенічне бдіння напередодні дня пам’яті святого апостола і євангеліста Iоанна Богослова
BEGIN:VEVENT
DTSTART:20251008T233000
DTEND:20251008T233000
SUMMARY:Всенічне бдіння напередодні дня пам’яті святого апостола і євангеліста Iоанна Богослова
DESCRIPTION:Проповідь після шестопсалм’я виголосив студент І курсу магістратури — чтець Даниїл Галіулін
LOCATION:
END:VEVENT
END:VCALENDAR
