BEGIN:VCALENDAR
VERSION:2.0
PRODID:-//КДАіС
CALSCALE:GREGORIAN
METHOD:PUBLISH
X-WR-CALNAME:КДАіС
X-ORIGINAL-URL:https://kdais.kiev.ua/event/10-10-2025-vitannya/
X-WR-CALDESC:Вітаємо благочинного Академічного храму архімандрита Досифея (Михайлюка) з Днем народження!
BEGIN:VEVENT
DTSTART:20251010T233000
DTEND:20251010T233000
SUMMARY:Вітаємо благочинного Академічного храму архімандрита Досифея (Михайлюка) з Днем народження!
DESCRIPTION:Від усього серця бажаємо Вам благословення Божого, спокою душі та натхнення серця. Нехай молитвами наших покровителів — святих Київської духовної академії — Всемилостивий Господь завжди чує Ваші пастирські молитви та укріплює Ваші духовно-тілесні сили
LOCATION:
END:VEVENT
END:VCALENDAR
