BEGIN:VCALENDAR
VERSION:2.0
PRODID:-//КДАіС
CALSCALE:GREGORIAN
METHOD:PUBLISH
X-WR-CALNAME:КДАіС
X-ORIGINAL-URL:https://kdais.kiev.ua/event/vistup_12-10-25/
X-WR-CALDESC:12 жовтня відбудеться презентація нотної збірки архімандрита Романа (Подлубняка)
BEGIN:VEVENT
DTSTART:20251009T233000
DTEND:20251009T233000
SUMMARY:12 жовтня відбудеться презентація нотної збірки архімандрита Романа (Подлубняка)
DESCRIPTION:Захід проходитиме у ставропігійному храмі на честь Собору славних і всехвальних 12-ти апостолів на Осокорках (м. Київ, вул. Виноградна, 1)
LOCATION:
END:VEVENT
END:VCALENDAR
