BEGIN:VCALENDAR
VERSION:2.0
PRODID:-//КДАіС
CALSCALE:GREGORIAN
METHOD:PUBLISH
X-WR-CALNAME:КДАіС
X-ORIGINAL-URL:https://kdais.kiev.ua/event/liturhiya-rector-13-10-2025/
X-WR-CALDESC:Ректор КДА очолив престольне свято храму на честь святителя Михаїла, першого митрополита Київського
BEGIN:VEVENT
DTSTART:20251013T233000
DTEND:20251013T233000
SUMMARY:Ректор КДА очолив престольне свято храму на честь святителя Михаїла, першого митрополита Київського
DESCRIPTION:Наприкінці богослужіння біля ікони святителя Михаїла, першого митрополита Київського було звершено чин славління
LOCATION:
END:VEVENT
END:VCALENDAR
