BEGIN:VCALENDAR
VERSION:2.0
PRODID:-//КДАіС
CALSCALE:GREGORIAN
METHOD:PUBLISH
X-WR-CALNAME:КДАіС
X-ORIGINAL-URL:https://kdais.kiev.ua/event/bdinnya-13-10-2025/
X-WR-CALDESC:Соборне вечірнє богослужіння напередодні свята Покрови Пресвятої Богородиці
BEGIN:VEVENT
DTSTART:20251013T233000
DTEND:20251013T233000
SUMMARY:Соборне вечірнє богослужіння напередодні свята Покрови Пресвятої Богородиці
DESCRIPTION:Проповідь після шестопсалм’я виголосив студент ІI курсу магістратури — чтець Василь Литвин
LOCATION:
END:VEVENT
END:VCALENDAR
