BEGIN:VCALENDAR
VERSION:2.0
PRODID:-//КДАіС
CALSCALE:GREGORIAN
METHOD:PUBLISH
X-WR-CALNAME:КДАіС
X-ORIGINAL-URL:https://kdais.kiev.ua/event/16-10-25-vitannya/
X-WR-CALDESC:Вітаємо проректора з навчально-методичної роботи єпископа Батуринського Пантелеімона з Днем народження!
BEGIN:VEVENT
DTSTART:20251016T233000
DTEND:20251016T233000
SUMMARY:Вітаємо проректора з навчально-методичної роботи єпископа Батуринського Пантелеімона з Днем народження!
DESCRIPTION:Молитовно бажаємо, щоб Господь і надалі укріпляв Вас у праведності, щоб, за словом Псалмоспівця, «у праведності побачити лице Боже» (Пс. 16:15)
LOCATION:
END:VEVENT
END:VCALENDAR
