BEGIN:VCALENDAR
VERSION:2.0
PRODID:-//КДАіС
CALSCALE:GREGORIAN
METHOD:PUBLISH
X-WR-CALNAME:КДАіС
X-ORIGINAL-URL:https://kdais.kiev.ua/event/koncert-17-10-2025/
X-WR-CALDESC:Вихованці 1-го та 3-го класів КДАіС відвідали Національну філармонію України
BEGIN:VEVENT
DTSTART:20251017T233000
DTEND:20251017T233000
SUMMARY:Вихованці 1-го та 3-го класів КДАіС відвідали Національну філармонію України
DESCRIPTION:На концертній програмі був присутній видатний український композитор, диригент, баяніст-віртуоз, заслужений діяч мистецтв України та лауреат численних міжнародних конкурсів —Володимир Зубицький
LOCATION:
END:VEVENT
END:VCALENDAR
