BEGIN:VCALENDAR
VERSION:2.0
PRODID:-//КДАіС
CALSCALE:GREGORIAN
METHOD:PUBLISH
X-WR-CALNAME:КДАіС
X-ORIGINAL-URL:https://kdais.kiev.ua/event/20-10-2025-vitannya/
X-WR-CALDESC:Вітаємо доцента Олега Оттовича Надь з Днем народження!
BEGIN:VEVENT
DTSTART:20251020T233000
DTEND:20251020T233000
SUMMARY:Вітаємо доцента Олега Оттовича Надь з Днем народження!
DESCRIPTION:Нехай Всемилостивий Творець молитвами наших покровителів — святих Київської духовної академії наповнить Ваше серце незмінною радістю у вірі, а Його безмежна допомога супроводжує Вашу викладацьку діяльність для процвітання Київських духовних шкіл
LOCATION:
END:VEVENT
END:VCALENDAR
