BEGIN:VCALENDAR
VERSION:2.0
PRODID:-//КДАіС
CALSCALE:GREGORIAN
METHOD:PUBLISH
X-WR-CALNAME:КДАіС
X-ORIGINAL-URL:https://kdais.kiev.ua/event/propovid-18-10-2025-ua/
X-WR-CALDESC:Проповідь архієпископа Білогородського Сильвестра у Неділю 19-ту після П&#8217;ятидесятниці
BEGIN:VEVENT
DTSTART:20251018T233000
DTEND:20251018T233000
SUMMARY:Проповідь архієпископа Білогородського Сильвестра у Неділю 19-ту після П&#8217;ятидесятниці
DESCRIPTION: Вдова на сході дві тисячі років тому… Яка у неї надія? Яка у неї опора в старості? У старості, в якій немає ні пенсій, ні допомоги — нічого немає. Тільки є одна надія на гідну старість — її діти. І ось тут, наїнська вдова втрачає свою дитину. Єдину дитину
LOCATION:
END:VEVENT
END:VCALENDAR
