BEGIN:VCALENDAR
VERSION:2.0
PRODID:-//КДАіС
CALSCALE:GREGORIAN
METHOD:PUBLISH
X-WR-CALNAME:КДАіС
X-ORIGINAL-URL:https://kdais.kiev.ua/event/propovid-18-10-2025-ru/
X-WR-CALDESC:Проповедь архиепископа Белогородского Сильвестра в Неделю 19-ю по Пятидесятнице
BEGIN:VEVENT
DTSTART:20251018T233000
DTEND:20251018T233000
SUMMARY:Проповедь архиепископа Белогородского Сильвестра в Неделю 19-ю по Пятидесятнице
DESCRIPTION:Сказано: «и отдал его Иисус матери его» (Лк. 7:15). Удивительные, прекрасные слова. Не просто воскресил, но отдал матери. Ради ее слез Христос совершил это чудо, и потому отдает ей, несчастной вдове, ее самое большое сокровище — единственного сына
LOCATION:
END:VEVENT
END:VCALENDAR
