BEGIN:VCALENDAR
VERSION:2.0
PRODID:-//КДАіС
CALSCALE:GREGORIAN
METHOD:PUBLISH
X-WR-CALNAME:КДАіС
X-ORIGINAL-URL:https://kdais.kiev.ua/event/21-10-25-konferenc/
X-WR-CALDESC:Завершилась робота секцій ХVІІ Міжнародної науково-практичної конференції «Духовна та світська освіта: історія взаємин – сучасність – перспективи»
BEGIN:VEVENT
DTSTART:20251021T233000
DTEND:20251021T233000
SUMMARY:Завершилась робота секцій ХVІІ Міжнародної науково-практичної конференції «Духовна та світська освіта: історія взаємин – сучасність – перспективи»
DESCRIPTION:Модераторами на секціях виступили професорсько-викладацька корпорація Київських духовних шкіл та представники інших духовних навчальних закладів
LOCATION:
END:VEVENT
END:VCALENDAR
