BEGIN:VCALENDAR
VERSION:2.0
PRODID:-//КДАіС
CALSCALE:GREGORIAN
METHOD:PUBLISH
X-WR-CALNAME:КДАіС
X-ORIGINAL-URL:https://kdais.kiev.ua/event/dopovid2-21-10-2025/
X-WR-CALDESC:Доповідь митрополита Хмельницького і Старокостянтинівського Віктора: «Місія Церкви в епоху змін: роздуми Блаженнішого Митрополита Володимира (Сабодана) (до 90-ліття з дня народження)»
BEGIN:VEVENT
DTSTART:20251021T233000
DTEND:20251021T233000
SUMMARY:Доповідь митрополита Хмельницького і Старокостянтинівського Віктора: «Місія Церкви в епоху змін: роздуми Блаженнішого Митрополита Володимира (Сабодана) (до 90-ліття з дня народження)»
DESCRIPTION:Підводячи підсумки зробленому огляду, можемо стверджувати, що життя і служіння Митрополита Володимира (Сабодана) є прикладом поєднання богословської глибини, пастирської мудрості та державницького бачення
LOCATION:
END:VEVENT
END:VCALENDAR
