BEGIN:VCALENDAR
VERSION:2.0
PRODID:-//КДАіС
CALSCALE:GREGORIAN
METHOD:PUBLISH
X-WR-CALNAME:КДАіС
X-ORIGINAL-URL:https://kdais.kiev.ua/event/dopovid_3_21-10-25/
X-WR-CALDESC:Доповідь проректора з науково-богословської роботи професора Буреги Володимира Вікторовича «6-те правило Першого Вселенського Собору та його інтерпретації на Сході і на Заході»
BEGIN:VEVENT
DTSTART:20251021T233000
DTEND:20251021T233000
SUMMARY:Доповідь проректора з науково-богословської роботи професора Буреги Володимира Вікторовича «6-те правило Першого Вселенського Собору та його інтерпретації на Сході і на Заході»
DESCRIPTION:6-те правило Нікейського Собору поклало початок довгій дискусії з приводу привілеїв церковних кафедр та загалом першості у Вселенській Церкві. В цій дискусії виявилися суттєві розбіжності між східною та західною екклезіологією
LOCATION:
END:VEVENT
END:VCALENDAR
