BEGIN:VCALENDAR
VERSION:2.0
PRODID:-//КДАіС
CALSCALE:GREGORIAN
METHOD:PUBLISH
X-WR-CALNAME:КДАіС
X-ORIGINAL-URL:https://kdais.kiev.ua/event/litiya-22-10-2025/
X-WR-CALDESC:В Академії відслужено заупокійну літію за загиблими внаслідок масованої атаки по столиці
BEGIN:VEVENT
DTSTART:20251022T233000
DTEND:20251022T233000
SUMMARY:В Академії відслужено заупокійну літію за загиблими внаслідок масованої атаки по столиці
DESCRIPTION:Заупокійну літію за спочилими очолив регент академічного хору архімандрит Леонтій (Тупкало)
LOCATION:
END:VEVENT
END:VCALENDAR
