BEGIN:VCALENDAR
VERSION:2.0
PRODID:-//КДАіС
CALSCALE:GREGORIAN
METHOD:PUBLISH
X-WR-CALNAME:КДАіС
X-ORIGINAL-URL:https://kdais.kiev.ua/event/22-10-25-vchena-rada/
X-WR-CALDESC:Відбулось засідання Вченої ради Київської духовної академії
BEGIN:VEVENT
DTSTART:20251022T233000
DTEND:20251022T233000
SUMMARY:Відбулось засідання Вченої ради Київської духовної академії
DESCRIPTION:На засіданні були призначені рецензенти на переклад творів святителя Фотія, патріарха Константинопольського, виконаного доцентом ієромонахом Германом (Ковачем)
LOCATION:
END:VEVENT
END:VCALENDAR
