BEGIN:VCALENDAR
VERSION:2.0
PRODID:-//КДАіС
CALSCALE:GREGORIAN
METHOD:PUBLISH
X-WR-CALNAME:КДАіС
X-ORIGINAL-URL:https://kdais.kiev.ua/event/liturhiya-rector-28-10-2025/
X-WR-CALDESC:У день вшанування ікони Божої Матері «Спорителька хлібів» архієпископ Сильвестр звершив Божественну літургію у Свято-Вознесенському храмі, що на Деміївці
BEGIN:VEVENT
DTSTART:20251028T233000
DTEND:20251028T233000
SUMMARY:У день вшанування ікони Божої Матері «Спорителька хлібів» архієпископ Сильвестр звершив Божественну літургію у Свято-Вознесенському храмі, що на Деміївці
DESCRIPTION:Проповідь після читання Святого Євангелія виголосив викладач КДАіС ієромонах Павел (Вітрюк)
LOCATION:
END:VEVENT
END:VCALENDAR
