BEGIN:VCALENDAR
VERSION:2.0
PRODID:-//КДАіС
CALSCALE:GREGORIAN
METHOD:PUBLISH
X-WR-CALNAME:КДАіС
X-ORIGINAL-URL:https://kdais.kiev.ua/event/litya-29-10-2025/
X-WR-CALDESC:В Київських духовних школах звершена панахида напередодні дня упокоєння монахині Аліпії
BEGIN:VEVENT
DTSTART:20251029T233000
DTEND:20251029T233000
SUMMARY:В Київських духовних школах звершена панахида напередодні дня упокоєння монахині Аліпії
DESCRIPTION:Завтра 30 жовтня відзначається 37-ма річниця упокоєння монахині Аліпії (Авдєєвої) – подвижниці, особливо шанованої православними християнами в Україні
LOCATION:
END:VEVENT
END:VCALENDAR
