BEGIN:VCALENDAR
VERSION:2.0
PRODID:-//КДАіС
CALSCALE:GREGORIAN
METHOD:PUBLISH
X-WR-CALNAME:КДАіС
X-ORIGINAL-URL:https://kdais.kiev.ua/event/book-30-10-2025/
X-WR-CALDESC:Вийшли з друку навчальні посібники для недільних шкіл «Подорож Євангелієм» та «Євангельська енциклопедія»
BEGIN:VEVENT
DTSTART:20251030T233000
DTEND:20251030T233000
SUMMARY:Вийшли з друку навчальні посібники для недільних шкіл «Подорож Євангелієм» та «Євангельська енциклопедія»
DESCRIPTION:Ці книги для Недільної школи створені з метою поглиблення знань про Євангельські події та Православну віру загалом, а також задля формування духовно-моральних цінностей у дітей
LOCATION:
END:VEVENT
END:VCALENDAR
