BEGIN:VCALENDAR
VERSION:2.0
PRODID:-//КДАіС
CALSCALE:GREGORIAN
METHOD:PUBLISH
X-WR-CALNAME:КДАіС
X-ORIGINAL-URL:https://kdais.kiev.ua/event/parastas-31-10-2025/
X-WR-CALDESC:Напередодні Димитрівської батьківської поминальної суботи в Академії звершено заупокійне богослужіння
BEGIN:VEVENT
DTSTART:20251031T233000
DTEND:20251031T233000
SUMMARY:Напередодні Димитрівської батьківської поминальної суботи в Академії звершено заупокійне богослужіння
DESCRIPTION:Богослужіння звершив благочинний Академічного храму архімандрит Досифей (Михайлюк)
LOCATION:
END:VEVENT
END:VCALENDAR
