BEGIN:VCALENDAR
VERSION:2.0
PRODID:-//КДАіС
CALSCALE:GREGORIAN
METHOD:PUBLISH
X-WR-CALNAME:КДАіС
X-ORIGINAL-URL:https://kdais.kiev.ua/event/propovid-ua-13-12-2025/
X-WR-CALDESC:Проповідь архієпископа Білогородського Сильвестра у Неділю 27-му після П&#8217;ятидесятниці
BEGIN:VEVENT
DTSTART:20251213T233000
DTEND:20251213T233000
SUMMARY:Проповідь архієпископа Білогородського Сильвестра у Неділю 27-му після П&#8217;ятидесятниці
DESCRIPTION:Справжня досконалість починається в полишенні всього заради Христа, будь-які багатства все одно коли-небудь зникнуть, або ми все одно перестанемо ними володіти, тому що все проходить в цьому житті
LOCATION:
END:VEVENT
END:VCALENDAR
