BEGIN:VCALENDAR
VERSION:2.0
PRODID:-//КДАіС
CALSCALE:GREGORIAN
METHOD:PUBLISH
X-WR-CALNAME:КДАіС
X-ORIGINAL-URL:https://kdais.kiev.ua/event/liturhiya-13-12-2025/
X-WR-CALDESC:Київські духовні школи молитовно відзначили пам’ять апостола Андрія Первозванного
BEGIN:VEVENT
DTSTART:20251213T233000
DTEND:20251213T233000
SUMMARY:Київські духовні школи молитовно відзначили пам’ять апостола Андрія Первозванного
DESCRIPTION:На завершення перед іконою святого апостола Андрія Первозванного єпископ Пантелеімон разом з духовенством звершили чин славління
LOCATION:
END:VEVENT
END:VCALENDAR
