BEGIN:VCALENDAR
VERSION:2.0
PRODID:-//КДАіС
CALSCALE:GREGORIAN
METHOD:PUBLISH
X-WR-CALNAME:КДАіС
X-ORIGINAL-URL:https://kdais.kiev.ua/event/liturhiya-rector-13-12-2025/
X-WR-CALDESC:Служіння ректора КДАіС у день пам&#8217;яті апостола Андрія Первозванного
BEGIN:VEVENT
DTSTART:20251213T233000
DTEND:20251213T233000
SUMMARY:Служіння ректора КДАіС у день пам&#8217;яті апостола Андрія Первозванного
DESCRIPTION:Після відпусту архієпископ Сильвестр привітав парафіян храму зі святом та звернувся з вітальним словом до настоятеля храму, який сьогодні святкує День Небесного покровителя
LOCATION:
END:VEVENT
END:VCALENDAR
