BEGIN:VCALENDAR
VERSION:2.0
PRODID:-//КДАіС
CALSCALE:GREGORIAN
METHOD:PUBLISH
X-WR-CALNAME:КДАіС
X-ORIGINAL-URL:https://kdais.kiev.ua/event/liturhiya-15-12-2025/
X-WR-CALDESC:Київські духовні школи вперше відзначили день канонізації святителя Петра Могили
BEGIN:VEVENT
DTSTART:20251215T233000
DTEND:20251215T233000
SUMMARY:Київські духовні школи вперше відзначили день канонізації святителя Петра Могили
DESCRIPTION:З огляду на те, що основний день пам’яті святителя припадає на канікулярний період, Вчена рада КДА встановила додаткову дату для богослужбового вшанування святителя всіма викладачами, студентами й вихованцями Київських духовних шкіл
LOCATION:
END:VEVENT
END:VCALENDAR
