BEGIN:VCALENDAR
VERSION:2.0
PRODID:-//КДАіС
CALSCALE:GREGORIAN
METHOD:PUBLISH
X-WR-CALNAME:КДАіС
X-ORIGINAL-URL:https://kdais.kiev.ua/event/sesiya-15-12-25/
X-WR-CALDESC:В Київських духовних школах розпочалась зимова екзаменаційна сесія
BEGIN:VEVENT
DTSTART:20251215T233000
DTEND:20251215T233000
SUMMARY:В Київських духовних школах розпочалась зимова екзаменаційна сесія
DESCRIPTION:Починаючи з 15 грудня і до 26 грудня включно, студенти бакалаврату та магістратури денної форми навчання КДАіС складатимуть іспити
LOCATION:
END:VEVENT
END:VCALENDAR
