BEGIN:VCALENDAR
VERSION:2.0
PRODID:-//КДАіС
CALSCALE:GREGORIAN
METHOD:PUBLISH
X-WR-CALNAME:КДАіС
X-ORIGINAL-URL:https://kdais.kiev.ua/event/sviyaty-kda-16-12-2025/
X-WR-CALDESC:Собор святих КДА: святитель Іларіон, єпископ Крутицький (+1760)
BEGIN:VEVENT
DTSTART:20251216T233000
DTEND:20251216T233000
SUMMARY:Собор святих КДА: святитель Іларіон, єпископ Крутицький (+1760)
DESCRIPTION:У 1714 р. пішов до Києва, де вступив до Києво-Могилянської академії. Після її закінчення, у 1721 р. прийняв чернечий постриг у Києво-Братському монастирі
LOCATION:
END:VEVENT
END:VCALENDAR
