BEGIN:VCALENDAR
VERSION:2.0
PRODID:-//КДАіС
CALSCALE:GREGORIAN
METHOD:PUBLISH
X-WR-CALNAME:КДАіС
X-ORIGINAL-URL:https://kdais.kiev.ua/event/liturhiya-rector-16-12-2025/
X-WR-CALDESC:Архієпископ Білогородський Сильвестр очолив престольне свято храму на честь преподобного Савви
BEGIN:VEVENT
DTSTART:20251216T233000
DTEND:20251216T233000
SUMMARY:Архієпископ Білогородський Сильвестр очолив престольне свято храму на честь преподобного Савви
DESCRIPTION:Владика ректор привітав парафіян з престольним святом храму, подякував за труди настоятелю та передав благословення Блаженнішого Митрополита Онуфрія
LOCATION:
END:VEVENT
END:VCALENDAR
