BEGIN:VCALENDAR
VERSION:2.0
PRODID:-//КДАіС
CALSCALE:GREGORIAN
METHOD:PUBLISH
X-WR-CALNAME:КДАіС
X-ORIGINAL-URL:https://kdais.kiev.ua/event/bdinya-16-12-2025/
X-WR-CALDESC:Святкове всенічне бдіння напередодні престольного свята Академічного храму
BEGIN:VEVENT
DTSTART:20251216T233000
DTEND:20251216T233000
SUMMARY:Святкове всенічне бдіння напередодні престольного свята Академічного храму
DESCRIPTION:Святкове богослужіння очолив голова Учбового комітету при Священному Синоді УПЦ митрополит Ніжинський і Прилуцький Климент
LOCATION:
END:VEVENT
END:VCALENDAR
