BEGIN:VCALENDAR
VERSION:2.0
PRODID:-//КДАіС
CALSCALE:GREGORIAN
METHOD:PUBLISH
X-WR-CALNAME:КДАіС
X-ORIGINAL-URL:https://kdais.kiev.ua/event/liturhiya-25-12-17/
X-WR-CALDESC:Предстоятель УПЦ очолив святкове богослужіння з нагоди престольного свята Академічного храму
BEGIN:VEVENT
DTSTART:20251217T233000
DTEND:20251217T233000
SUMMARY:Предстоятель УПЦ очолив святкове богослужіння з нагоди престольного свята Академічного храму
DESCRIPTION:Блаженніший владика привітав паству зі святом та закликав на всіх Боже благословення
LOCATION:
END:VEVENT
END:VCALENDAR
