BEGIN:VCALENDAR
VERSION:2.0
PRODID:-//КДАіС
CALSCALE:GREGORIAN
METHOD:PUBLISH
X-WR-CALNAME:КДАіС
X-ORIGINAL-URL:https://kdais.kiev.ua/event/liturhiya-18-12-2025/
X-WR-CALDESC:Голова Учбового комітету при Священному Синоді УПЦ звершив Божественну літургію в Академічному храмі
BEGIN:VEVENT
DTSTART:20251218T233000
DTEND:20251218T233000
SUMMARY:Голова Учбового комітету при Священному Синоді УПЦ звершив Божественну літургію в Академічному храмі
DESCRIPTION:На завершення богослужіння перед іконою преподобного Савви було звершено чин славління та прочитано молитву святому
LOCATION:
END:VEVENT
END:VCALENDAR
