BEGIN:VCALENDAR
VERSION:2.0
PRODID:-//КДАіС
CALSCALE:GREGORIAN
METHOD:PUBLISH
X-WR-CALNAME:КДАіС
X-ORIGINAL-URL:https://kdais.kiev.ua/event/18-12-2025-spovid/
X-WR-CALDESC:Відбулась загальна сповідь студентів та вихованців Київських духовних шкіл
BEGIN:VEVENT
DTSTART:20251218T233000
DTEND:20251218T233000
SUMMARY:Відбулась загальна сповідь студентів та вихованців Київських духовних шкіл
DESCRIPTION:Усі присутні підійшли до Таїнства Сповіді, щоб завтра за Божественною літургією всім разом причаститись Святих Христових Таїн
LOCATION:
END:VEVENT
END:VCALENDAR
