BEGIN:VCALENDAR
VERSION:2.0
PRODID:-//КДАіС
CALSCALE:GREGORIAN
METHOD:PUBLISH
X-WR-CALNAME:КДАіС
X-ORIGINAL-URL:https://kdais.kiev.ua/event/bdinya-18-12-2025/
X-WR-CALDESC:Всенічне бдіння в Академічному храмі напередодні дня пам’яті святителя і чудотворця Миколая
BEGIN:VEVENT
DTSTART:20251218T233000
DTEND:20251218T233000
SUMMARY:Всенічне бдіння в Академічному храмі напередодні дня пам’яті святителя і чудотворця Миколая
DESCRIPTION:Під час полієлею був почитаний Акафіст святителю Миколаю
LOCATION:
END:VEVENT
END:VCALENDAR
