BEGIN:VCALENDAR
VERSION:2.0
PRODID:-//КДАіС
CALSCALE:GREGORIAN
METHOD:PUBLISH
X-WR-CALNAME:КДАіС
X-ORIGINAL-URL:https://kdais.kiev.ua/event/krugliy-stil-18-12-2025/
X-WR-CALDESC:Ректор КДАіС взяв участь в науковому круглому столі з питань державно-церковних відносин
BEGIN:VEVENT
DTSTART:20251218T233000
DTEND:20251218T233000
SUMMARY:Ректор КДАіС взяв участь в науковому круглому столі з питань державно-церковних відносин
DESCRIPTION:До роботи круглого столу долучилися представники православних конфесій України і члени наукової спільноти
LOCATION:
END:VEVENT
END:VCALENDAR
