BEGIN:VCALENDAR
VERSION:2.0
PRODID:-//КДАіС
CALSCALE:GREGORIAN
METHOD:PUBLISH
X-WR-CALNAME:КДАіС
X-ORIGINAL-URL:https://kdais.kiev.ua/event/liturhiya-rector-25-05-2025/
X-WR-CALDESC:Служіння ректора КДАіС у день пам’яті святителя Миколая
BEGIN:VEVENT
DTSTART:20251219T233000
DTEND:20251219T233000
SUMMARY:Служіння ректора КДАіС у день пам’яті святителя Миколая
DESCRIPTION:Наприкінці богослужіння було звершено чин славління, після чого архієреї роздали маленьким прихожанам солодкі подарунки
LOCATION:
END:VEVENT
END:VCALENDAR
